BEGIN:VCALENDAR
VERSION:2.0
PRODID:icalendar-ruby
CALSCALE:GREGORIAN
METHOD:PUBLISH
BEGIN:VEVENT
DTSTAMP:20260422T224842Z
UID:60-669910@chadronchristianchurch.com
DTSTART:20261025T164500Z
DTEND:20261025T180000Z
CLASS:PUBLIC
CREATED:20260422T140640
DESCRIPTION:
LAST-MODIFIED:20260422T140640
LOCATION:Chadron Christian Church
SUMMARY:Sunday Service
URL;VALUE=URI:https://www.chadronchristianchurch.com/events/sunday-service/
 2026-10-25
ATTACH;FILENAME=358414826_666831522139958_856758921042754134_n.jpg;FMTTYPE=
 image/jpeg:https://dq5pwpg1q8ru0.cloudfront.net/2024/11/04/20/05/30/a0329d
 12-70f0-48bf-8945-7250e94d0827/358414826_666831522139958_85675892104275413
 4_n.jpg
END:VEVENT
END:VCALENDAR
